BEGIN:VCALENDAR
VERSION:2.0
PRODID:-//msp.bike//EN
CALSCALE:GREGORIAN
METHOD:PUBLISH
BEGIN:VEVENT
UID:0spc11m1a036pbate9osq0vcfq_20260428T234500Z@msp.bike
DTSTAMP:20260423T013744Z
DTSTART:20260428T234500Z
DTEND:20260429T013000Z
SUMMARY:Bonesaw Summer Tuesday rides
DESCRIPTION:Bonesaw Cycling Collective Summer Tuesday ridesEvent type: Grou
 p ride (no-drop)When: Last Tuesday of each month\, April through September
 . Meet at 6:45 pm\, roll at 7 pm.Start: Cepro Site / Parque Monarca (Green
 way and 10th Ave)Finish: Martin Olav Sabo BridgeDistance: 12-15 miles. Pac
 e: 10-12 mph.Bring your lights and lock\, just in case.We have some super 
 special guests joining us this summer! We’ve invited some of our friends t
 o help lead rides starting in May. They’ll be helping to plan our routes a
 nd mid ride stops and generally just sharing the love and the stoke 🖤May 
 - @bikingwithbaddies @ez.bikeclubJune - @twincitiesbikepoloclubJuly - @fas
 tcasualmplsAugust - @unsanctioned.rides \nWebsite: https://bonesawcycling.
 bike/eventsInstagram: https://www.instagram.com/p/DXaHXzGkcP-/tags: nodrop
LOCATION:Cepro Site\, 2828 11th Ave S\, Minneapolis\, MN 55407\, USA
URL:https://www.google.com/calendar/event?eid=MHNwYzExbTFhMDM2cGJhdGU5b3NxMHZjZnFfMjAyNjA0MjhUMjM0NTAwWiA2YTI1NmUyNWUzMTZjYzY3NzcxYjk5YmQ0OTlkZmE1N2QyNzgwZDUxZjZlYjVmOWRmMWE5ZDg0Mjk5YTFiM2MyQGc
END:VEVENT
END:VCALENDAR