BEGIN:VCALENDAR
VERSION:2.0
PRODID:-//msp.bike//EN
CALSCALE:GREGORIAN
METHOD:PUBLISH
BEGIN:VEVENT
UID:16019anc2d0o4t541dr434uefl@msp.bike
DTSTAMP:20260423T014409Z
DTSTART:20260425T170000Z
DTEND:20260425T200000Z
SUMMARY:Twin cities maker free bike repair event
DESCRIPTION:Twin cities maker free bike repair event\n\nJoin us this Saturd
 ay\, April 25th\, from 12pm-3pm\, for a free bike repair event to get your
  ride ready for spring! \n\nBring your bike over to TCM at 3119 E 26th St\
 , and our volunteers will help out with basic repairs and tune-ups at no c
 ost. Stop by any time between 12-3pm and enjoy some free snacks and music 
 with our repair community. \n\nSign up here to tell us more about your rep
 air needs: https://tr.ee/iZWmAMriuy\n\nThis event is one of many repair cl
 inics here at TCM - check out our calendar for upcoming clinics for electr
 onics repair\, clothes mending\, 3D plastics repair\, woodworking/furnitur
 e repair\, and more! \n\n\nInstagram: https://www.instagram.com/p/DXawMABj
 FTp/\n\nTags: maintenance
LOCATION:Twin Cities Maker\, 3119 E 26th St\, Minneapolis\, MN 55406\, USA
URL:https://www.google.com/calendar/event?eid=MTYwMTlhbmMyZDBvNHQ1NDFkcjQzNHVlZmwgNmEyNTZlMjVlMzE2Y2M2Nzc3MWI5OWJkNDk5ZGZhNTdkMjc4MGQ1MWY2ZWI1ZjlkZjFhOWQ4NDI5OWExYjNjMkBn
END:VEVENT
END:VCALENDAR