BEGIN:VCALENDAR
VERSION:2.0
PRODID:-//msp.bike//EN
CALSCALE:GREGORIAN
METHOD:PUBLISH
BEGIN:VEVENT
UID:1roobcj0jacsnbkkril7bnl327@msp.bike
DTSTAMP:20260423T014455Z
DTSTART:20260515T123000Z
DTEND:20260515T143000Z
SUMMARY:Pancakes and Punk Rock for Bike to Work day
DESCRIPTION:When: Friday May 15\, 7:30-9:30am \nWhere: Sabo Bridge\n\nFree 
 pancakes while supplies last for international Bike to Work Day.\n\ntags: 
 gathering
LOCATION:Martin Olav Sabo Bridge\, Minneapolis\, MN 55407\, USA
URL:https://www.google.com/calendar/event?eid=MXJvb2JjajBqYWNzbmJra3JpbDdibmwzMjcgNmEyNTZlMjVlMzE2Y2M2Nzc3MWI5OWJkNDk5ZGZhNTdkMjc4MGQ1MWY2ZWI1ZjlkZjFhOWQ4NDI5OWExYjNjMkBn
END:VEVENT
END:VCALENDAR