BEGIN:VCALENDAR
VERSION:2.0
PRODID:-//msp.bike//EN
CALSCALE:GREGORIAN
METHOD:PUBLISH
BEGIN:VEVENT
UID:2f4d0la3i193836orc3of4ku8s@msp.bike
DTSTAMP:20260424T085005Z
DTSTART:20260429T230000Z
DTEND:20260430T010000Z
SUMMARY:FTW Maintenance and Pizza Night
DESCRIPTION:Kick off the riding season with fellow Femme/Trans/Women/Nonbin
 ary riders for an evening of pizza and basic bike maintenance!\n\nWhen: We
 dnesday\, April 29\, 2026. 6:00 PM - 8:00 PM.\n\nStart and Finish: Behind 
 Perennial Cycle\n\nJoin us to learn some basic bike maintenance and feel e
 xtra confident going into the riding season with new mechanical skills. En
 joy a night of pizza and community. We'll also be announcing the dates of 
 this summer's FTW Rides.\n\nTags: maintenance\, ftw\n\nLink: https://www.i
 nstagram.com/p/DXfW8fIASYx/
LOCATION:Perennial Cycle (behind the shop)\, 3342 Hennepin Ave\, Minneapoli
 s\, MN 55408
URL:https://www.google.com/calendar/event?eid=MmY0ZDBsYTNpMTkzODM2b3JjM29mNGt1OHMgNmEyNTZlMjVlMzE2Y2M2Nzc3MWI5OWJkNDk5ZGZhNTdkMjc4MGQ1MWY2ZWI1ZjlkZjFhOWQ4NDI5OWExYjNjMkBn
END:VEVENT
END:VCALENDAR