BEGIN:VCALENDAR
VERSION:2.0
PRODID:-//msp.bike//EN
CALSCALE:GREGORIAN
METHOD:PUBLISH
BEGIN:VEVENT
UID:2ldqfmdof19ie72me6olvtt10m_20260428T224500Z@msp.bike
DTSTAMP:20260423T014058Z
DTSTART:20260428T224500Z
DTEND:20260429T014500Z
SUMMARY:Tuesday Night Rides
DESCRIPTION:Event type: Group ride (drop) Tuesday Night Rides.When: Tuesday
 s. Meet at 5:45 pm\, roll at 6:00 pm. Aug 19\, 2025\, Aug 26\, 2025Start: 
 Five Watt Coffee\, E. Hennepin (861 E Hennepin Ave)Finish: Various restaur
 ants around town. Check the Facebook page for updates.Two pace groups. Spi
 cy: 16-18 mph pace Mild: 14-16 mph pace Routes published on Monday in the 
 FB group. Rides feature a mid-ride restaurant stop and have the option to 
 end back at Headflyer for a pint. There are no sweeps\, so this can be a d
 rop ride. Bring lights\, lock\, helmet\, flat-fixing kit\, anything you ne
 ed to get yourself home.Facebook link: https://www.facebook.com/groups/tue
 sdaynightrides/Group Ride Etiquette: Together\, not racing.  If you see yo
 urself pulling away on the front\, pause at the top of the climb or at the
  intersection of the next turn.  Riding safely is the plan to enjoy a fun 
 ride. \n\nAverage MPH Pace: The speed averaged over the entirety of the ri
 de.  We will go faster and slower than the posted speeds with a target of 
 an average posted speed.  Please be mindful of your abilities and expectat
 ions. \nAbout the Ride:  These rides are independent and you can choose to
  ride with the group or on your own.  Please note you as an individual rid
 er are responsible for yourself and riding safely.  If you ride with the g
 roup please be prepared to get yourself to the dinner destination on your 
 own accord if you get disconnected from the group. Routes are published by
  Monday before the ride. A stop will be taken midway while riding to order
  dinner on the app from the restaurant. This is in effort to allow the res
 taurant adequate time to prepare the meals prior to our arrival and assist
  with time management.  Please note\, not all riders have dinner\, and som
 e choose to roll on when we stop.  This is a ride you can join for as much
  or as little as you like.  Some riders head home from the dinner stop and
  the remaining riders head back to the start of the ride.  All riders shou
 ld have a helmet\, lights and a lock. We’re stopping at restaurants in the
  city and bike theft is common\, be vigilant.\n \nParking: If you elect to
  drive to the ride\, Five Watt Coffee  has an off-street parking lot.  Ple
 ase park in the back of the lot to accommodate other patrons. Post ride a 
 few riders typically end the ride with a pint at a brewery or nearby water
 ing hole  if you feel inclined.\ntags: drop
LOCATION:Five Watt Coffee\, E. Hennepin\, 861 E Hennepin Ave UNIT 106\, Min
 neapolis\, MN 55414\, USA
URL:https://www.google.com/calendar/event?eid=MmxkcWZtZG9mMTlpZTcybWU2b2x2dHQxMG1fMjAyNjA0MjhUMjI0NTAwWiA2YTI1NmUyNWUzMTZjYzY3NzcxYjk5YmQ0OTlkZmE1N2QyNzgwZDUxZjZlYjVmOWRmMWE5ZDg0Mjk5YTFiM2MyQGc
END:VEVENT
END:VCALENDAR