BEGIN:VCALENDAR
VERSION:2.0
PRODID:-//msp.bike//EN
CALSCALE:GREGORIAN
METHOD:PUBLISH
BEGIN:VEVENT
UID:35l9sm5sahdmq8pprs0p21q4j5@msp.bike
DTSTAMP:20260423T014252Z
DTSTART:20260512T000000Z
DTEND:20260512T013000Z
SUMMARY:Starting line: Zoom info session about crit racing for FTW
DESCRIPTION:Starting Line is back for 2026!\n\nThis program is designed to 
 support FTWNB (femme\, trans\, woman\, non-binary) riders leading up to th
 eir first crit race. It will be led by Corey of Triple C Coaching with sup
 port from the crit kids of Versus.\n\nParticipation is free and includes:\
 n▫️Coaching and 4 week training plan\n▫️Zoom info session about crit racin
 g\n▫️In person skills clinic\n▫️Group ride - practice skills and get comfo
 rtable riding in a pack\n▫️Entry to the MN Sunday Series race on June 7th.
  Watch some races\, get stoked\, and ride your own race at Hennepin Tech C
 ollege in Eden Prairie.\n\nApplication link: https://docs.google.com/forms
 /d/e/1FAIpQLScFXFD75Rc0s4ElP3kZ250qf5nA1llPP_kIiIo0rm0pS11BlQ/viewform\n\n
 Apps will be reviewed and approved on a rolling basis until capacity is me
 t. Comment or DM any questions. Apply now and share with your crit-curious
  friends!\n\nInstagram: https://www.instagram.com/p/DXMKmv6jM7d/\ntags: ft
 w\, clinic
URL:https://www.google.com/calendar/event?eid=MzVsOXNtNXNhaGRtcThwcHJzMHAyMXE0ajUgNmEyNTZlMjVlMzE2Y2M2Nzc3MWI5OWJkNDk5ZGZhNTdkMjc4MGQ1MWY2ZWI1ZjlkZjFhOWQ4NDI5OWExYjNjMkBn
END:VEVENT
END:VCALENDAR