BEGIN:VCALENDAR
VERSION:2.0
PRODID:-//msp.bike//EN
CALSCALE:GREGORIAN
METHOD:PUBLISH
BEGIN:VEVENT
UID:3gs42tolr2t2llnq9i65vp7chd_20260421T231500Z@msp.bike
DTSTAMP:20260421T082056Z
DTSTART:20260421T231500Z
DTEND:20260422T013000Z
SUMMARY:Fast Casual x Francis Burger ride
DESCRIPTION:Fast Casual x Francis Burger rideEvent type: Group ride (no-dro
 p)When: Third Tuesday of each month. Meet at 6:15 pm\, roll at 6:30 pm. (A
 pril through October)Start: Martin Olav Sabo Bridge Finish: Francis Burger
  Joint (East Lake Street)Distance: 12-15 miles. Pace: 14-16 mph.Free Hamm’
 s or NA beverage for every rider. This is a welcoming intermediate group b
 ike ride\, rolling at a moderately spicy pace. Mechanical support will be 
 available but be prepared to keep up with a 14-16 mph rolling pace. Bring 
 your pals\, your helmet and lights! Instagram: https://www.instagram.com/p
 /DXHf6Q9gMtt/ tags: nodrop
LOCATION:Martin Olav Sabo Bridge\, Minneapolis\, MN 55407\, USA
URL:https://www.google.com/calendar/event?eid=M2dzNDJ0b2xyMnQybGxucTlpNjV2cDdjaGRfMjAyNjA0MjFUMjMxNTAwWiA2YTI1NmUyNWUzMTZjYzY3NzcxYjk5YmQ0OTlkZmE1N2QyNzgwZDUxZjZlYjVmOWRmMWE5ZDg0Mjk5YTFiM2MyQGc
END:VEVENT
END:VCALENDAR