BEGIN:VCALENDAR
VERSION:2.0
PRODID:-//msp.bike//EN
CALSCALE:GREGORIAN
METHOD:PUBLISH
BEGIN:VEVENT
UID:3p040s20komutqf9f7apnubp5p@msp.bike
DTSTAMP:20260423T014210Z
DTSTART:20260601T223000Z
DTEND:20260602T003000Z
SUMMARY:Starting Line: Crit racing clinic group ride for FTW
DESCRIPTION:Starting Line is back for 2026!\n\nThis program is designed to 
 support FTWNB (femme\, trans\, woman\, non-binary) riders leading up to th
 eir first crit race. It will be led by Corey of Triple C Coaching with sup
 port from the crit kids of Versus.\n\nThis week will feature a group ride 
 to practice skills and get comfortable riding in a pack.\n\nRegister at th
 e application link for more details: https://docs.google.com/forms/d/e/1FA
 IpQLScFXFD75Rc0s4ElP3kZ250qf5nA1llPP_kIiIo0rm0pS11BlQ/viewform\n\nApps wil
 l be reviewed and approved on a rolling basis until capacity is met. Comme
 nt or DM any questions. Apply now and share with your crit-curious friends
 !\n\nParticipation is free and includes:\n▫️Coaching and 4 week training p
 lan\n▫️Zoom info session about crit racing\n▫️In person skills clinic\n▫️G
 roup ride - practice skills and get comfortable riding in a pack\n▫️Entry 
 to the MN Sunday Series race on June 7th. Watch some races\, get stoked\, 
 and ride your own race at Hennepin Tech College in Eden Prairie.\n\nInstag
 ram: https://www.instagram.com/p/DXMKmv6jM7d/\ntags: ftw\, clinic
URL:https://www.google.com/calendar/event?eid=M3AwNDBzMjBrb211dHFmOWY3YXBudWJwNXAgNmEyNTZlMjVlMzE2Y2M2Nzc3MWI5OWJkNDk5ZGZhNTdkMjc4MGQ1MWY2ZWI1ZjlkZjFhOWQ4NDI5OWExYjNjMkBn
END:VEVENT
END:VCALENDAR