BEGIN:VCALENDAR
VERSION:2.0
PRODID:-//msp.bike//EN
CALSCALE:GREGORIAN
METHOD:PUBLISH
BEGIN:VEVENT
UID:4km81pt3uhmbr5ole9ishe6a08@msp.bike
DTSTAMP:20260421T100648Z
DTSTART:20260422T223000Z
DTEND:20260423T003000Z
SUMMARY:Behind Bars Earth Day Ride
DESCRIPTION:Group ride: Earth Day evening ride hosted by @behindbarsbicycle
 shop.\n\nWhen: Meet at 5:30 PM\, Roll at 6:00 PM\n\nStart: Behind Bars Bic
 ycle Shop\nFinish: Near Minnehaha Creek wading area\n\nRoute: Down River P
 kwy\, ending near the Minnehaha Creek wading area for environmental apprec
 iation. Bring a beverage\, watch the sunset\, throw around the ol' pigskin
 .\n\nTags: nodrop\, gathering\n\nLink: https://www.instagram.com/p/DXIaU6K
 Ceff/\n\nLeaders: @m4ttyp4tty
LOCATION:Behind Bars Bicycle Shop\, 208 13th Ave NE\, Minneapolis\, MN 5541
 3
URL:https://www.google.com/calendar/event?eid=NGttODFwdDN1aG1icjVvbGU5aXNoZTZhMDggNmEyNTZlMjVlMzE2Y2M2Nzc3MWI5OWJkNDk5ZGZhNTdkMjc4MGQ1MWY2ZWI1ZjlkZjFhOWQ4NDI5OWExYjNjMkBn
END:VEVENT
END:VCALENDAR