BEGIN:VCALENDAR
VERSION:2.0
PRODID:-//msp.bike//EN
CALSCALE:GREGORIAN
METHOD:PUBLISH
BEGIN:VEVENT
UID:583a1kplrhlt28os7fr7acto85@msp.bike
DTSTAMP:20260423T014154Z
DTSTART:20260510T150000Z
DTEND:20260510T180000Z
SUMMARY:FTWNB river bottoms ride
DESCRIPTION:FTWNB river bottoms ride.Self-supported ride When: Sunday May 1
 0\, 2026. Meet at 10 am\, roll by 10:45am.Where: Sibley House Historic Sit
 eWho’s this for: FTWNB (anyone but cis-men). See this resource from Grease
  Rag defining FTW. (https://greaserag.org/safer-spaces/wtf-is-ftw/)Are you
  NOT a cis-man? Do you ride bikes? Any bike? Show up and meet others who a
 lso ride bikes!!!It's mother's day but if you dont have brunch plans come 
 and ride! Or bring your mom! Meet at the Sibley house at 10AM\, and most l
 ikely be rolling by 10:45.This is not a traditional group ride! You are re
 sponsible for yourself and your routing please :)Never been on the river b
 ottoms? The riverbottoms are fairly flat trail\, yet have portions of sand
 \, washed out features\, tree roots\, bridges\, optional and non optional 
 mtb features\, and other riders coming in opposite directions! The bigger 
 your tires and the more gears you have\, the more fun you will have riding
 . Also worth noting that food and water is not close by! Bring snacks.  In
 stagram link: https://www.instagram.com/p/DXXAEmKjqf3YpII4KZFKm4jvi9iyTz3q
 AVvM-80/Join the strava club for more FTWNB events: https://www.strava.com
 /clubs/1844456Tags: selfsupported\, ftw
LOCATION:Sibley Historic Site\, 1357 Sibley Memorial Hwy\, Mendota\, MN 551
 50\, USA
URL:https://www.google.com/calendar/event?eid=NTgzYTFrcGxyaGx0MjhvczdmcjdhY3RvODUgNmEyNTZlMjVlMzE2Y2M2Nzc3MWI5OWJkNDk5ZGZhNTdkMjc4MGQ1MWY2ZWI1ZjlkZjFhOWQ4NDI5OWExYjNjMkBn
END:VEVENT
END:VCALENDAR