BEGIN:VCALENDAR
VERSION:2.0
PRODID:-//msp.bike//EN
CALSCALE:GREGORIAN
METHOD:PUBLISH
BEGIN:VEVENT
UID:5anhft3ap766g0p18g6i4nkc96@msp.bike
DTSTAMP:20260421T063245Z
DTSTART:20260502T140000Z
DTEND:20260502T160000Z
SUMMARY:Perennial Bonus Pastry Ride
DESCRIPTION:We have an extra special additional ride on May 2—a Pastry Ride
 r Appreciation Ride! Mark your calendars for one more Saturday morning of 
 fun\, treats\, and great prizes. 💓\n\nWhen: Saturday\, May 2. Meet at 9:0
 0 AM. Rollout at 9:30 AM.\n\nStart: Perennial Cycle\n\nLink: https://www.i
 nstagram.com/p/DXXGi0eEXno\nRegistration link in bio @ https://www.instagr
 am.com/perennialcycle/\n\nTags: nodrop
LOCATION:Perennial Cycle\, 3342 Hennepin Ave\, Minneapolis\, MN 55408\, USA
URL:https://www.google.com/calendar/event?eid=NWFuaGZ0M2FwNzY2ZzBwMThnNmk0bmtjOTYgNmEyNTZlMjVlMzE2Y2M2Nzc3MWI5OWJkNDk5ZGZhNTdkMjc4MGQ1MWY2ZWI1ZjlkZjFhOWQ4NDI5OWExYjNjMkBn
END:VEVENT
END:VCALENDAR