BEGIN:VCALENDAR
VERSION:2.0
PRODID:-//msp.bike//EN
CALSCALE:GREGORIAN
METHOD:PUBLISH
BEGIN:VEVENT
UID:5dapi02a2ikf2vevgrjgkdaec5@msp.bike
DTSTAMP:20260423T013931Z
DTSTART:20260518T223000Z
DTEND:20260519T003000Z
SUMMARY:Starting Line: Crit racing skills clinic for FTW
DESCRIPTION:Starting Line is back for 2026!\n\nThis program is designed to 
 support FTWNB (femme\, trans\, woman\, non-binary) riders leading up to th
 eir first crit race. It will be led by Corey of Triple C Coaching with sup
 port from the crit kids of Versus.\n\nRegister at the application link for
  more details: https://docs.google.com/forms/d/e/1FAIpQLScFXFD75Rc0s4ElP3k
 Z250qf5nA1llPP_kIiIo0rm0pS11BlQ/viewform\n\nApps will be reviewed and appr
 oved on a rolling basis until capacity is met. Comment or DM any questions
 . Apply now and share with your crit-curious friends!\n\nParticipation is 
 free and includes:\n▫️Coaching and 4 week training plan\n▫️Zoom info sessi
 on about crit racing\n▫️In person skills clinic\n▫️Group ride - practice s
 kills and get comfortable riding in a pack\n▫️Entry to the MN Sunday Serie
 s race on June 7th. Watch some races\, get stoked\, and ride your own race
  at Hennepin Tech College in Eden Prairie.\n\nInstagram: https://www.insta
 gram.com/p/DXMKmv6jM7d/\ntags: ftw\, clinic
URL:https://www.google.com/calendar/event?eid=NWRhcGkwMmEyaWtmMnZldmdyamdrZGFlYzUgNmEyNTZlMjVlMzE2Y2M2Nzc3MWI5OWJkNDk5ZGZhNTdkMjc4MGQ1MWY2ZWI1ZjlkZjFhOWQ4NDI5OWExYjNjMkBn
END:VEVENT
END:VCALENDAR