BEGIN:VCALENDAR
VERSION:2.0
PRODID:-//msp.bike//EN
CALSCALE:GREGORIAN
METHOD:PUBLISH
BEGIN:VEVENT
UID:5fpcaltcfg2b18sam5do2rv8pl@msp.bike
DTSTAMP:20260420T144130Z
DTSTART;VALUE=DATE:20260704
DTEND;VALUE=DATE:20260706
SUMMARY:TC Bike Polo Summertides III Tournament
DESCRIPTION:TC Bike Polo Summertides III TournamentEvent type: Bike Polo (t
 ournament)  When: All day Saturday and Sunday Jul 4\, 2026 - Jul 5\, 2026L
 ocation: Minneapolis Bike Polo Court (E 35th St and 3rd Ave S)This 2 day b
 ike polo tournament will feature 1 day of round robin games\, followed by 
 1 day of bracket elimination games. 🥰3v3 tournament\, 16 teams! 🥰If you'
 re not in the tournament\, come spectate!Registration link: https://docs.g
 oogle.com/forms/d/1jU2jkPP5hOnLcDn1yn6CfC8aVs5_f9XRGG06K26g6Nc/\nFacebook:
   https://www.facebook.com/groups/twincitiesbikepolo\nInstagram: https://w
 ww.instagram.com/twincitiesbikepoloclub/ \nTags: polo
LOCATION:Minneapolis Bike Polo Court\, 3429 3rd Ave S\, Minneapolis\, MN 55
 408\, USA
URL:https://www.google.com/calendar/event?eid=NWZwY2FsdGNmZzJiMThzYW01ZG8ycnY4cGwgNmEyNTZlMjVlMzE2Y2M2Nzc3MWI5OWJkNDk5ZGZhNTdkMjc4MGQ1MWY2ZWI1ZjlkZjFhOWQ4NDI5OWExYjNjMkBn
END:VEVENT
END:VCALENDAR