BEGIN:VCALENDAR
VERSION:2.0
PRODID:-//msp.bike//EN
CALSCALE:GREGORIAN
METHOD:PUBLISH
BEGIN:VEVENT
UID:6grj6pj270pmcb9m68o34b9kc9gjcb9ocpi6abb668oj0cb56op66e9m6s@msp.bike
DTSTAMP:20260422T052841Z
DTSTART:20260530T013000Z
DTEND:20260530T033000Z
SUMMARY:Roll The J-Line
DESCRIPTION:Meet 8:30 pm\nRace 9:00 pm\n\nOut & back alleycat following the
  newly planned J Line bus rapid transit route. \n\ntags: alleycat
LOCATION:Summit Brewing Company\, 910 Montreal Cir\, St Paul\, MN 55102\, U
 SA
URL:https://www.google.com/calendar/event?eid=NmdyajZwajI3MHBtY2I5bTY4bzM0YjlrYzlnamNiOW9jcGk2YWJiNjY4b2owY2I1Nm9wNjZlOW02cyA2YTI1NmUyNWUzMTZjYzY3NzcxYjk5YmQ0OTlkZmE1N2QyNzgwZDUxZjZlYjVmOWRmMWE5ZDg0Mjk5YTFiM2MyQGc
END:VEVENT
END:VCALENDAR