BEGIN:VCALENDAR
VERSION:2.0
PRODID:-//msp.bike//EN
CALSCALE:GREGORIAN
METHOD:PUBLISH
BEGIN:VEVENT
UID:7367oklkl08r1eccl37b5jcdtk@msp.bike
DTSTAMP:20260421T100625Z
DTSTART:20260425T223000Z
DTEND:20260426T003000Z
SUMMARY:Grease Rag Taco Ride
DESCRIPTION:Group ride (no-drop) — Taco Group Ride\, organized by Grease Ra
 g Bikes.\n\nWhen: Saturday\, April 25\, 2026. Meet at 5:30 PM\, roll out a
 t 5:45 PM.\n\nStart: North end of Minneapolis Sculpture Garden\, near Dunw
 oody Blvd.\n\nDistance: 8-mile loop. Pace: ~8–10 mph (conversational pace 
 — no one left behind).\n\nLet's support an immigrant business on Lake St\,
  check out some new-ish reopened bike trails\, and enjoy spring! We'll vis
 it Pineda Tacos Plus\, one of many Lake St restaurants recovering from the
  invasion of ICE — come hungry if you like tacos!\n\nWe will be on protect
 ed bike lanes and trails\, with a short stretch of side street.\n\nBring a
  lock\, some taco money (optional)\, and bike lights.\n\nThis ride is open
  to all FTW bike riders! Invite your friends! Please send Karla a DM or co
 mment in the #grease-rag-events Discord channel if there is anything they 
 can do to make this event more accessible to you.\n\nLink: https://www.ins
 tagram.com/p/DXE7bSVjnnx/\n\nTags: nodrop\, ftw
LOCATION:Minneapolis Sculpture Garden\, 725 Vineland Pl\, Minneapolis\, MN 
 55403\, USA
URL:https://www.google.com/calendar/event?eid=NzM2N29rbGtsMDhyMWVjY2wzN2I1amNkdGsgNmEyNTZlMjVlMzE2Y2M2Nzc3MWI5OWJkNDk5ZGZhNTdkMjc4MGQ1MWY2ZWI1ZjlkZjFhOWQ4NDI5OWExYjNjMkBn
END:VEVENT
END:VCALENDAR