BEGIN:VCALENDAR
VERSION:2.0
PRODID:-//msp.bike//EN
CALSCALE:GREGORIAN
METHOD:PUBLISH
BEGIN:VEVENT
UID:7p68phpnr22gnqld7l0th288ro@msp.bike
DTSTAMP:20260423T014155Z
DTSTART:20260516T150000Z
DTEND:20260516T173000Z
SUMMARY:South Mpls Petals x Queermunity Ride
DESCRIPTION:South Mpls Petals x Queermunity RideEvent type: Group ride (no-
 drop) Saturday\, May 16th\, 2026Start: Meet at Bryant Square Park: 10am\, 
 roll at 10:15pmFinish: Queermunity MN (3036 Hennepin) for Social time & sn
 acks from 11:30am-12:30pm\nBike ride around the lakes: 10:15am-11:30amThe 
 South Minneapolis Petals are hosting a community bike ride and social to s
 upport our local queer-focused community center\, Queermunity! We’d love f
 or you to join us and donate if you’re able.Queermunity\, like many other 
 businesses\, has struggled during Metro Surge\, but they still provided a 
 safe and inclusive place to meet for many organizing groups (including the
  Petals) during that time. We want to help pay it back by fundraising as m
 uch as we can during this ride. To donate to Queermunity and help cover th
 e costs of Queermunity catering\, please Venmo our organizer\, Noah (@noah
 -velick). We suggest $10-$50 as a donation amount. If you can’t make the r
 ide but still want to donate\, you can Venmo @Queermunity directly!More in
 formation is available on the RSVP: https://forms.gle/JPBN3baPnS5SCvta9\n\
 ntags: nodrop\, gathering
LOCATION:Bryant Square Park\, 3101 Bryant Ave S\, Minneapolis\, MN 55408\, 
 USA
URL:https://www.google.com/calendar/event?eid=N3A2OHBocG5yMjJnbnFsZDdsMHRoMjg4cm8gNmEyNTZlMjVlMzE2Y2M2Nzc3MWI5OWJkNDk5ZGZhNTdkMjc4MGQ1MWY2ZWI1ZjlkZjFhOWQ4NDI5OWExYjNjMkBn
END:VEVENT
END:VCALENDAR