BEGIN:VCALENDAR
VERSION:2.0
PRODID:-//msp.bike//EN
CALSCALE:GREGORIAN
METHOD:PUBLISH
BEGIN:VEVENT
UID:8akl3meb1o7jdvi983ikglerb0@msp.bike
DTSTAMP:20260420T143930Z
DTSTART;VALUE=DATE:20260807
DTEND;VALUE=DATE:20260810
SUMMARY:Dirt Church 2026
DESCRIPTION:Mountain bike camping weekend organized by Midwest Dirt Legion.
 \n\nWhen: August 7-9\, 2026 (3-day event)\n\nLocation: Cuyuna (red dirt tr
 ails)\n\nThis event is an opportunity for the FTW community to come togeth
 er and take over the trails for three days. Expect group rides\, clinics\,
  camaraderie\, swimming\, good people\, and getting super sendy.\n\nTicket
 s: Will go on sale in early April.\n\nLink: https://www.instagram.com/p/DU
 8uJ_kjz4I/\n\nSign up for Midwest Dirt Legion's newsletter to be the first
  to know when tickets go on sale.\n\nTags: camping\, ftw
LOCATION:Cuyuna\, MN\, USA
URL:https://www.google.com/calendar/event?eid=OGFrbDNtZWIxbzdqZHZpOTgzaWtnbGVyYjAgNmEyNTZlMjVlMzE2Y2M2Nzc3MWI5OWJkNDk5ZGZhNTdkMjc4MGQ1MWY2ZWI1ZjlkZjFhOWQ4NDI5OWExYjNjMkBn
END:VEVENT
END:VCALENDAR