BEGIN:VCALENDAR
VERSION:2.0
PRODID:-//msp.bike//EN
CALSCALE:GREGORIAN
METHOD:PUBLISH
BEGIN:VEVENT
UID:e24hd4e62l80qou63o7gltkv6g@msp.bike
DTSTAMP:20260420T144329Z
DTSTART:20260426T190000Z
DTEND:20260426T210000Z
SUMMARY:Piecycle Pastry Ride
DESCRIPTION:April Piecycle Ride  - 4/26 at 2pm @ Bryn Mawr Meadows Park Pla
 yground  \n\n\nJoin the Bryn Mawr Active Transportation Committee and Piec
 ycle for our "season opener" bike ride. We'll meet at the playground at Br
 yn Mawr Meadows Park (on Morgan and Laurel) at 2:00 PM and roll out at 2:1
 5 on Sunday\, April 26th.  We plan to ride to Diane’s Place in Northeast -
  just under 4 miles - via the newly reopened Cedar Lake Trail.  We will en
 joy pastries and drinks at the end of the ride.  The ride is family friend
 ly\, and riders of all skills and paces are welcome.
LOCATION:Bryn Mawr Meadows Park\, 601 Morgan Ave S\, Minneapolis\, MN 55405
 \, USA
URL:https://www.google.com/calendar/event?eid=ZTI0aGQ0ZTYybDgwcW91NjNvN2dsdGt2NmcgNmEyNTZlMjVlMzE2Y2M2Nzc3MWI5OWJkNDk5ZGZhNTdkMjc4MGQ1MWY2ZWI1ZjlkZjFhOWQ4NDI5OWExYjNjMkBn
END:VEVENT
END:VCALENDAR