BEGIN:VCALENDAR
VERSION:2.0
PRODID:-//msp.bike//EN
CALSCALE:GREGORIAN
METHOD:PUBLISH
BEGIN:VEVENT
UID:hhji97nqrul2d4a4dn8firicu3_20260425T151500Z@msp.bike
DTSTAMP:20260420T144253Z
DTSTART:20260425T151500Z
DTEND:20260425T170000Z
SUMMARY:Mellow Morning Group Ride
DESCRIPTION:Group ride (no-drop) Mellow Morning — mild group rides on Satur
 day mornings throughout April\, hosted by Behind Bars Bicycle Shop.\n\nWhe
 n: Updated time: Meet at shop at 10:15 AM\, depart 10:45 AM.\n\nStart: Beh
 ind Bars Bicycle Shop\n\nPace: Mellow/mild\n\nNot fixed gear specific — co
 me on any bike!\n\nTags: nodrop
LOCATION:Behind Bars Bicycle Shop\, 208 13th Ave NE\, Minneapolis\, MN 5541
 3\, USA
URL:https://www.google.com/calendar/event?eid=aGhqaTk3bnFydWwyZDRhNGRuOGZpcmljdTNfMjAyNjA0MjVUMTUxNTAwWiA2YTI1NmUyNWUzMTZjYzY3NzcxYjk5YmQ0OTlkZmE1N2QyNzgwZDUxZjZlYjVmOWRmMWE5ZDg0Mjk5YTFiM2MyQGc
END:VEVENT
END:VCALENDAR