BEGIN:VCALENDAR
VERSION:2.0
PRODID:-//msp.bike//EN
CALSCALE:GREGORIAN
METHOD:PUBLISH
BEGIN:VEVENT
UID:opak2a2lugjc4oeoqold3mqu70@msp.bike
DTSTAMP:20260420T143809Z
DTSTART;VALUE=DATE:20260822
DTEND;VALUE=DATE:20260822
SUMMARY:FB4K Gran Fondo
DESCRIPTION:The FB4K Gran Fondo is back! A celebration of Minnesota's incre
 dible cycling community and fundraiser.\n\nTags: gravel\, race\n\nLink: ht
 tps://fb4k.org/events/
LOCATION:Fulton Production Brewery\, 2540 NE 2nd St\, Minneapolis\, MN 5541
 8\, USA
URL:https://www.google.com/calendar/event?eid=b3BhazJhMmx1Z2pjNG9lb3FvbGQzbXF1NzAgNmEyNTZlMjVlMzE2Y2M2Nzc3MWI5OWJkNDk5ZGZhNTdkMjc4MGQ1MWY2ZWI1ZjlkZjFhOWQ4NDI5OWExYjNjMkBn
END:VEVENT
END:VCALENDAR